BEGIN:VCALENDAR
VERSION:2.0
PRODID:-//https://campus.varberg.se///NONSGML kigkonsult.se iCalcreator 2.10.15//
METHOD:PUBLISH
BEGIN:VEVENT
UID:20260422T133336UTC-1631fj0u7u@https://campus.varberg.se/
DTSTAMP:20260422T133336Z
DESCRIPTION:Tillsammans med Sparbanksstiftelsen Varberg kommer årets tillde
 lade stipendier delas ut. Alla studenter är välkomna att närvara vid utdel
 ningen.&nbsp\;\nMer information kommuniceras inom kort.\n&nbsp\;\n https:/
 /campus.varberg.se/evenemang/394-stipendieutdelning
DTSTART:20260518T130000Z
DTEND:20260518T140000Z
LOCATION:Sal E218 ()
SUMMARY:Stipendieutdelning
URL:https://campus.varberg.se/evenemang/394-stipendieutdelning
END:VEVENT
END:VCALENDAR
